{"text_format":"1","workbook":"xlsx","n_sheets":3,"sheets":["Керны","справочные и расчетные данные","Данные для протокола"],"not_rendered":{"charts":0,"images":0,"macros":1,"external_links":0,"defined_names":1,"comments":1,"pivot_tables":0},"unopened":[],"bounds":{"document_bytes":16777216,"sheet_cells":100000,"rows_first":2000,"rows_last":500,"rows_between":2000,"halvings":0,"cell_chars":16384,"cell_head_chars":4096},"cells_cut":0,"cells_raw":0,"read":"whole","date_system":"1900"}

{"sheet":"Керны","index":0,"n_rows":43,"n_cols":20,"rows_kept":43,"cut":false,"hidden":false,"merged":[[46,20,49,20],[46,21,49,21],[46,23,49,23],[5,8,5,15],[32,0,32,15],[39,6,42,6],[34,2,34,6],[34,9,34,11],[39,7,42,7],[39,9,42,9],[28,15,31,15],[25,9,26,9],[25,10,26,10],[25,11,26,11],[25,12,26,12],[25,13,25,14],[25,15,26,15],[28,14,31,14],[4,8,4,15],[0,0,0,15],[2,8,2,15],[3,8,3,15],[25,0,26,0],[25,1,26,1],[25,5,26,5],[25,6,25,7],[25,8,26,8],[25,2,25,4],[10,0,10,15],[7,0,7,15],[8,0,8,15],[24,0,24,15]]}
["Протокол не может быть воспроизведен полностью или частично без письменного разрешения испытательной лаборатории"]
[]
[null,null,null,null,null,null,null,null,"\"Название лаборатории\""]
[null,null,null,null,null,null,null,null,"\"адрес организации\""]
[null,null,null,null,null,null,null,null,{"$f":"S42","v":"Аттестат аккредитации испытательной лаборатории "}]
[null,null,null,null,null,null,null,null,{"$f":"T42","v":"RU"}]
[]
[{"$f":"\"Протокол №\"&TEXT(A40,\"#####\")","v":"Протокол №2"}]
["определения прочности бетона по образцам, отобранным из конструкции (кернов)"]
[{"$f":"\"Акт отбора пробы: №\"&TEXT(B40,\"#####\")&\" от \"&TEXT(D29,\"дд.ММ.гггг\")","v":"Акт отбора пробы: №2 от 25.04.2020"}]
[{"$f":"\"Наименование объекта: \"&J40","v":"Наименование объекта: участок"}]
["Наименование бетонируемой конструкции: ",null,null,null,{"$f":"G40","v":"БНС"}]
["Марка бетона: ",null,{"$f":"I40","v":"В25 F200(I) W6"}]
["Цель испытаний: Контроль прочности бетонных образцов-цилиндров (кернов) "]
["1. Место отбора:",null,{"$f":"H40","v":"Участок"}]
["2. Место испытания: Строительная лаборатория "]
[{"$f":"\"3. Дата испытания: \"&TEXT(E29,\"дд.ММ.гггг\\г.\")","v":"3. Дата испытания: 30.04.2020г."}]
["4. Условия испытаний:    1. Температура воздуха, оС : ",null,null,null,null,{"$f":"L40","v":21},"2. Относительная влажность, % :",null,null,{"$f":"M40","v":58}]
["5. Средства измерений используемых при испытаниях:",null,null,null,null,null,null,null,null,null,null,null,null,null,null,null,"Внимание"]
[{"$f":"K40","v":"Испытательная машина  CYBERTRONIC C055 зав.№C055P149/ZL/0005 свидетельство о поверке № 1/14324  действительно до 28 октября 2020 г."},null,null,null,null,null,null,null,null,null,null,null,null,null,null,null,"Данные заполнять на листе \"Данные для протокола\"."]
[{"$f":"K41","v":"Штангенциркуль ШЦ 1-150-0.05 зав.№8103469  свидетельство  о поверке № 1/15294 до 18 ноября 2020 г."},null,null,null,null,null,null,null,null,null,null,null,null,null,null,null,"Выделить четыре строки и столбцы от A до T"]
["Весы ПВм-3/32-ЖКИ-П зав.№215539 свидетельство о поверке №1/9333 до 10 июля 2020 г.",null,null,null,null,null,null,null,null,null,null,null,null,null,null,null,"Вставить выделенные ячейки на листе \"Керны\" в ячейку \"А40\""]
["Методика проведения испытаний:  Испытание образцов из кернов ГОСТ 10180-2012 «Бетоны. Методы определения прочности по контрольным образцам»."]
["Обработка результатов испытаний: ГОСТ 28570-2019 «Методы определения прочности по образцам, отобранным из конструкции»."]
["Результаты испытаний"]
["№ п/п","Маркировка образца","Дата",null,null,"Масса образца, г","Размеры образца, см",null,"Площадь рабочего сечения  образца, см2","Объем образца, см3","Средняя плотность образца, г/см3","Разрушающая нагрузка, кН","Прочность  бетона образца Rобр","Прочность  бетона образца, приведенная к базовому размеру, МПа",null,"Требуемая прочность, МПа"]
[null,null,"Дата бетонирования","Отбора проб ","испытания",null,"Диаметр","Высота",null,null,null,null,null,"Отдельного образца","Среднее значение всех испытанных образцов"]
[1,2,3,4,5,6,7,8,9,10,11,12,13,14,15,16]
[1,{"$f":"F40","v":"2.21(1)"},{"$f":"$C$40","v":"2020-03-06"},{"$f":"$D$40","v":"2020-04-25"},{"$f":"$E$40","v":"2020-04-30"},{"$f":"N40","v":1686},{"$f":"O40","v":9.4},{"$f":"P40","v":10},{"$f":"G29*G29*3.14/4","v":69.362600000000015},{"$f":"I29*H29","v":693.6260000000002},{"$f":"F29/J29","v":2.4307047313682006},{"$f":"Q40","v":315.5},{"$f":"L29/I29*10","v":45.485607517595923},{"$f":"M29*VLOOKUP(H29/G29,'справочные и расчетные данные'!C3:D16,2,FALSE)*VLOOKUP(G29,'справочные и расчетные данные'!N3:O6,1,TRUE)","v":47.30503181829976},{"$f":"AVERAGE(N29:N32)","v":44.71487516327241},{"$f":"R40","v":32.1}]
[2,{"$f":"F41","v":"2.21(2)"},{"$f":"$C$40","v":"2020-03-06"},{"$f":"$D$40","v":"2020-04-25"},{"$f":"$E$40","v":"2020-04-30"},{"$f":"N41","v":1678},{"$f":"O41","v":9.4},{"$f":"P41","v":10},{"$f":"G30*G30*3.14/4","v":69.362600000000015},{"$f":"I30*H30","v":693.6260000000002},{"$f":"F30/J30","v":2.4191711383367975},{"$f":"Q41","v":287.3},{"$f":"L30/I30*10","v":41.420015974026342},{"$f":"M30*VLOOKUP(H30/G30,'справочные и расчетные данные'!C4:D17,2,FALSE)*VLOOKUP(G30,'справочные и расчетные данные'!P2:Q6,1,TRUE)","v":43.076816612987393}]
[3,"2.22(1)","2020-03-06","2020-04-25","2020-04-30",1688,9.4,10,69.362600000000015,693.6260000000002,2.4335881296260515,289.10000000000002,41.67952181723291,{"$f":"M31*VLOOKUP(H31/G31,'справочные и расчетные данные'!C5:D18,2,FALSE)*VLOOKUP(G31,'справочные и расчетные данные'!R2:S6,1,TRUE)","v":43.346702689922225}]
[4,"2.22(2)","2020-03-06","2020-04-25","2020-04-30",1668,9.4,10,69.362600000000015,693.6260000000002,2.4047541470475435,301,43.395143780654124,{"$f":"M32*VLOOKUP(H32/G32,'справочные и расчетные данные'!C6:D19,2,FALSE)*VLOOKUP(G32,'справочные и расчетные данные'!T2:U6,1,TRUE)","v":45.13094953188029}]
[{"$f":"\"Заключение: Характер разрушения образцов согласно ГОСТ 10180-2012 - удовлетворительный.  Прочность бетона в возрасте  \"&TEXT(E29-C29,\"##\")&\"  суток составила \"&TEXT(O29/P29*100,\"###,0\")&\"% от требуемой прочности \"&TEXT(P29,\"##,0\")&\"МПа.\"","v":"Заключение: Характер разрушения образцов согласно ГОСТ 10180-2012 - удовлетворительный.  Прочность бетона в возрасте  55  суток составила 139,3% от требуемой прочности 32,1МПа."}]
[]
[null,null,{"$f":"S40","v":"Инженер строительной лаборатории"},null,null,null,null,null,null,{"$f":"T40","v":"Петров"}]
[]
[null,null,null,null,null,null,"Начальник строительной лаборатории",null,null,"Ф.Ф.Ф"]
[]
["номер акта","акт отбора","дата бет","дата отбора","дата исп","маркировка","наим.бет.констр","место отбора","марка бетона","назв объекта","оборудование","температура","влажность","масса","диаметр","высота","кН","Прочность проект","Должность","ФИО"]
[2,2,"2020-03-06","2020-04-25","2020-04-30","2.21(1)","БНС","Участок","В25 F200(I) W6","участок","Испытательная машина  CYBERTRONIC C055 зав.№C055P149/ZL/0005 свидетельство о поверке № 1/14324  действительно до 28 октября 2020 г.",21,58,1686,9.4,10,315.5,32.1,"Инженер строительной лаборатории","Петров"]
[null,null,null,null,null,"2.21(2)",null,null,null,null,"Штангенциркуль ШЦ 1-150-0.05 зав.№8103469  свидетельство  о поверке № 1/15294 до 18 ноября 2020 г.",null,null,1678,9.4,10,287.3]
[null,null,null,null,null,"2.22(1)",null,null,null,null,"Весы ПВм-3/32-ЖКИ-П зав.№215539 свидетельство о поверке №1/9333 до 10 июля 2020 г.",null,null,1688,9.4,10,289.10000000000002,"Аттестат","Аттестат аккредитации испытательной лаборатории ","RU"]
[null,null,null,null,null,"2.22(2)",null,null,null,null,null,null,null,1668,9.4,10,301]

{"sheet":"справочные и расчетные данные","index":1,"n_rows":16,"n_cols":21,"rows_kept":16,"cut":false,"hidden":false,"merged":[[0,2,0,3],[0,4,0,5],[0,6,0,7],[0,8,0,9],[0,13,0,14],[0,11,0,12],[0,15,0,16],[0,17,0,18],[0,19,0,20]]}
["ГОСТ 28570-2019",null,"1 образец",null,"2 образец",null,"3 образец",null,"4 образец",null,null,"Масштабные коэфф.",null,"1 образец",null,"2 образец",null,"3 образец",null,"4 образец"]
["от","до","h/d","ƞ1","h/d","ƞ1","h/d","ƞ1","h/d","ƞ1",null,"от","до","α","диаметр","α","диаметр","α","диаметр","α","диаметр"]
[0.65,0.74,{"$f":"IF(B3>=(Керны!$H$29/Керны!$G$29),IF((Керны!$H$29/Керны!$G$29)>=A3, (Керны!$H$29/Керны!$G$29), \"\"),\"\")","v":""},0.88,{"$f":"IF(B3>=(Керны!$H$30/Керны!$G$30),IF((Керны!$H$30/Керны!$G$30)>=A3, (Керны!$H$30/Керны!$G$30), \"\"),\"\")","v":""},0.88,{"$f":"IF(B3>=(Керны!$H$31/Керны!$G$31),IF((Керны!$H$31/Керны!$G$31)>=A3, (Керны!$H$31/Керны!$G$31), \"\"),\"\")","v":""},0.88,{"$f":"IF(B3>=(Керны!$H$32/Керны!$G$32),IF((Керны!$H$32/Керны!$G$32)>=A3, (Керны!$H$32/Керны!$G$32), \"\"),\"\")","v":""},0.88,null,44,56,0.85,{"$f":"IF(M3>=(Керны!$G$29*10),IF((Керны!$G$29*10)>=L3, Керны!$G$29, \"\"),\"\")","v":""},0.85,{"$f":"IF(M3>=(Керны!$G$30*10),IF((Керны!$G$30*10)>=L3, Керны!$G$30, \"\"),\"\")","v":""},0.85,{"$f":"IF(M3>=(Керны!$G$31*10),IF((Керны!$G$31*10)>=L3, Керны!$G$31, \"\"),\"\")","v":""},0.85,{"$f":"IF(M3>=(Керны!$G$32*10),IF((Керны!$G$32*10)>=L3, Керны!$G$32, \"\"),\"\")","v":""}]
[0.75,0.84,{"$f":"IF(B4>=(Керны!$H$29/Керны!$G$29),IF((Керны!$H$29/Керны!$G$29)>=A4, (Керны!$H$29/Керны!$G$29), \"\"),\"\")","v":""},0.92,{"$f":"IF(B4>=(Керны!$H$30/Керны!$G$30),IF((Керны!$H$30/Керны!$G$30)>=A4, (Керны!$H$30/Керны!$G$30), \"\"),\"\")","v":""},0.92,{"$f":"IF(B4>=(Керны!$H$31/Керны!$G$31),IF((Керны!$H$31/Керны!$G$31)>=A4, (Керны!$H$31/Керны!$G$31), \"\"),\"\")","v":""},0.92,{"$f":"IF(B4>=(Керны!$H$32/Керны!$G$32),IF((Керны!$H$32/Керны!$G$32)>=A4, (Керны!$H$32/Керны!$G$32), \"\"),\"\")","v":""},0.92,null,57,69,0.9,{"$f":"IF(M4>=(Керны!$G$29*10),IF((Керны!$G$29*10)>=L4, (Керны!$G$29), \"\"),\"\")","v":""},0.9,{"$f":"IF(M4>=(Керны!$G$30*10),IF((Керны!$G$30*10)>=L4, Керны!$G$30, \"\"),\"\")","v":""},0.9,{"$f":"IF(M4>=(Керны!$G$31*10),IF((Керны!$G$31*10)>=L4, Керны!$G$31, \"\"),\"\")","v":""},0.9,{"$f":"IF(M4>=(Керны!$G$32*10),IF((Керны!$G$32*10)>=L4, Керны!$G$32, \"\"),\"\")","v":""}]
[0.85,0.94,{"$f":"IF(B5>=(Керны!$H$29/Керны!$G$29),IF((Керны!$H$29/Керны!$G$29)>=A5, (Керны!$H$29/Керны!$G$29), \"\"),\"\")","v":""},0.96,{"$f":"IF(B5>=(Керны!$H$30/Керны!$G$30),IF((Керны!$H$30/Керны!$G$30)>=A5, (Керны!$H$30/Керны!$G$30), \"\"),\"\")","v":""},0.96,{"$f":"IF(B5>=(Керны!$H$31/Керны!$G$31),IF((Керны!$H$31/Керны!$G$31)>=A5, (Керны!$H$31/Керны!$G$31), \"\"),\"\")","v":""},0.96,{"$f":"IF(B5>=(Керны!$H$32/Керны!$G$32),IF((Керны!$H$32/Керны!$G$32)>=A5, (Керны!$H$32/Керны!$G$32), \"\"),\"\")","v":""},0.96,null,70,90,0.95,{"$f":"IF(M5>=(Керны!$G$29*10),IF((Керны!$G$29*10)>=L5, (Керны!$G$29), \"\"),\"\")","v":""},0.95,{"$f":"IF(M5>=(Керны!$G$30*10),IF((Керны!$G$30*10)>=L5, Керны!$G$30, \"\"),\"\")","v":""},0.95,{"$f":"IF(M5>=(Керны!$G$31*10),IF((Керны!$G$31*10)>=L5, Керны!$G$31, \"\"),\"\")","v":""},0.95,{"$f":"IF(M5>=(Керны!$G$32*10),IF((Керны!$G$32*10)>=L5, Керны!$G$32, \"\"),\"\")","v":""}]
[0.95,1.04,{"$f":"IF(B6>=(Керны!$H$29/Керны!$G$29),IF((Керны!$H$29/Керны!$G$29)>=A6, (Керны!$H$29/Керны!$G$29), \"\"),\"\")","v":""},1,{"$f":"IF(B6>=(Керны!$H$30/Керны!$G$30),IF((Керны!$H$30/Керны!$G$30)>=A6, (Керны!$H$30/Керны!$G$30), \"\"),\"\")","v":""},1,{"$f":"IF(B6>=(Керны!$H$31/Керны!$G$31),IF((Керны!$H$31/Керны!$G$31)>=A6, (Керны!$H$31/Керны!$G$31), \"\"),\"\")","v":""},1,{"$f":"IF(B6>=(Керны!$H$32/Керны!$G$32),IF((Керны!$H$32/Керны!$G$32)>=A6, (Керны!$H$32/Керны!$G$32), \"\"),\"\")","v":""},1,null,90,200,1,{"$f":"IF(M6>=(Керны!$G$29*10),IF((Керны!$G$29*10)>=L6, (Керны!$G$29), \"\"),\"\")","v":9.4},1,{"$f":"IF(M6>=(Керны!$G$30*10),IF((Керны!$G$30*10)>=L6, Керны!$G$30, \"\"),\"\")","v":9.4},1,{"$f":"IF(M6>=(Керны!$G$31*10),IF((Керны!$G$31*10)>=L6, Керны!$G$31, \"\"),\"\")","v":9.4},1,{"$f":"IF(M6>=(Керны!$G$32*10),IF((Керны!$G$32*10)>=L6, Керны!$G$32, \"\"),\"\")","v":9.4}]
[1.05,1.1399999999999999,{"$f":"IF(B7>=(Керны!$H$29/Керны!$G$29),IF((Керны!$H$29/Керны!$G$29)>=A7, (Керны!$H$29/Керны!$G$29), \"\"),\"\")","v":1.0638297872340425},1.04,{"$f":"IF(B7>=(Керны!$H$30/Керны!$G$30),IF((Керны!$H$30/Керны!$G$30)>=A7, (Керны!$H$30/Керны!$G$30), \"\"),\"\")","v":1.0638297872340425},1.04,{"$f":"IF(B7>=(Керны!$H$31/Керны!$G$31),IF((Керны!$H$31/Керны!$G$31)>=A7, (Керны!$H$31/Керны!$G$31), \"\"),\"\")","v":1.0638297872340425},1.04,{"$f":"IF(B7>=(Керны!$H$32/Керны!$G$32),IF((Керны!$H$32/Керны!$G$32)>=A7, (Керны!$H$32/Керны!$G$32), \"\"),\"\")","v":1.0638297872340425},1.04]
[1.1499999999999999,1.24,{"$f":"IF(B8>=(Керны!$H$29/Керны!$G$29),IF((Керны!$H$29/Керны!$G$29)>=A8, (Керны!$H$29/Керны!$G$29), \"\"),\"\")","v":""},1.08,{"$f":"IF(B8>=(Керны!$H$30/Керны!$G$30),IF((Керны!$H$30/Керны!$G$30)>=A8, (Керны!$H$30/Керны!$G$30), \"\"),\"\")","v":""},1.08,{"$f":"IF(B8>=(Керны!$H$31/Керны!$G$31),IF((Керны!$H$31/Керны!$G$31)>=A8, (Керны!$H$31/Керны!$G$31), \"\"),\"\")","v":""},1.08,{"$f":"IF(B8>=(Керны!$H$32/Керны!$G$32),IF((Керны!$H$32/Керны!$G$32)>=A8, (Керны!$H$32/Керны!$G$32), \"\"),\"\")","v":""},1.08]
[1.25,1.34,{"$f":"IF(B9>=(Керны!$H$29/Керны!$G$29),IF((Керны!$H$29/Керны!$G$29)>=A9, (Керны!$H$29/Керны!$G$29), \"\"),\"\")","v":""},1.1000000000000001,{"$f":"IF(B9>=(Керны!$H$30/Керны!$G$30),IF((Керны!$H$30/Керны!$G$30)>=A9, (Керны!$H$30/Керны!$G$30), \"\"),\"\")","v":""},1.1000000000000001,{"$f":"IF(B9>=(Керны!$H$31/Керны!$G$31),IF((Керны!$H$31/Керны!$G$31)>=A9, (Керны!$H$31/Керны!$G$31), \"\"),\"\")","v":""},1.1000000000000001,{"$f":"IF(B9>=(Керны!$H$32/Керны!$G$32),IF((Керны!$H$32/Керны!$G$32)>=A9, (Керны!$H$32/Керны!$G$32), \"\"),\"\")","v":""},1.1000000000000001]
[1.35,1.44,{"$f":"IF(B10>=(Керны!$H$29/Керны!$G$29),IF((Керны!$H$29/Керны!$G$29)>=A10, (Керны!$H$29/Керны!$G$29), \"\"),\"\")","v":""},1.1200000000000001,{"$f":"IF(B10>=(Керны!$H$30/Керны!$G$30),IF((Керны!$H$30/Керны!$G$30)>=A10, (Керны!$H$30/Керны!$G$30), \"\"),\"\")","v":""},1.1200000000000001,{"$f":"IF(B10>=(Керны!$H$31/Керны!$G$31),IF((Керны!$H$31/Керны!$G$31)>=A10, (Керны!$H$31/Керны!$G$31), \"\"),\"\")","v":""},1.1200000000000001,{"$f":"IF(B10>=(Керны!$H$32/Керны!$G$32),IF((Керны!$H$32/Керны!$G$32)>=A10, (Керны!$H$32/Керны!$G$32), \"\"),\"\")","v":""},1.1200000000000001]
[1.45,1.54,{"$f":"IF(B11>=(Керны!$H$29/Керны!$G$29),IF((Керны!$H$29/Керны!$G$29)>=A11, (Керны!$H$29/Керны!$G$29), \"\"),\"\")","v":""},1.1299999999999999,{"$f":"IF(B11>=(Керны!$H$30/Керны!$G$30),IF((Керны!$H$30/Керны!$G$30)>=A11, (Керны!$H$30/Керны!$G$30), \"\"),\"\")","v":""},1.1299999999999999,{"$f":"IF(B11>=(Керны!$H$31/Керны!$G$31),IF((Керны!$H$31/Керны!$G$31)>=A11, (Керны!$H$31/Керны!$G$31), \"\"),\"\")","v":""},1.1299999999999999,{"$f":"IF(B11>=(Керны!$H$32/Керны!$G$32),IF((Керны!$H$32/Керны!$G$32)>=A11, (Керны!$H$32/Керны!$G$32), \"\"),\"\")","v":""},1.1299999999999999]
[1.55,1.64,{"$f":"IF(B12>=(Керны!$H$29/Керны!$G$29),IF((Керны!$H$29/Керны!$G$29)>=A12, (Керны!$H$29/Керны!$G$29), \"\"),\"\")","v":""},1.1399999999999999,{"$f":"IF(B12>=(Керны!$H$30/Керны!$G$30),IF((Керны!$H$30/Керны!$G$30)>=A12, (Керны!$H$30/Керны!$G$30), \"\"),\"\")","v":""},1.1399999999999999,{"$f":"IF(B12>=(Керны!$H$31/Керны!$G$31),IF((Керны!$H$31/Керны!$G$31)>=A12, (Керны!$H$31/Керны!$G$31), \"\"),\"\")","v":""},1.1399999999999999,{"$f":"IF(B12>=(Керны!$H$32/Керны!$G$32),IF((Керны!$H$32/Керны!$G$32)>=A12, (Керны!$H$32/Керны!$G$32), \"\"),\"\")","v":""},1.1399999999999999]
[1.65,1.74,{"$f":"IF(B13>=(Керны!$H$29/Керны!$G$29),IF((Керны!$H$29/Керны!$G$29)>=A13, (Керны!$H$29/Керны!$G$29), \"\"),\"\")","v":""},1.1599999999999999,{"$f":"IF(B13>=(Керны!$H$30/Керны!$G$30),IF((Керны!$H$30/Керны!$G$30)>=A13, (Керны!$H$30/Керны!$G$30), \"\"),\"\")","v":""},1.1599999999999999,{"$f":"IF(B13>=(Керны!$H$31/Керны!$G$31),IF((Керны!$H$31/Керны!$G$31)>=A13, (Керны!$H$31/Керны!$G$31), \"\"),\"\")","v":""},1.1599999999999999,{"$f":"IF(B13>=(Керны!$H$32/Керны!$G$32),IF((Керны!$H$32/Керны!$G$32)>=A13, (Керны!$H$32/Керны!$G$32), \"\"),\"\")","v":""},1.1599999999999999]
[1.75,1.84,{"$f":"IF(B14>=(Керны!$H$29/Керны!$G$29),IF((Керны!$H$29/Керны!$G$29)>=A14, (Керны!$H$29/Керны!$G$29), \"\"),\"\")","v":""},1.18,{"$f":"IF(B14>=(Керны!$H$30/Керны!$G$30),IF((Керны!$H$30/Керны!$G$30)>=A14, (Керны!$H$30/Керны!$G$30), \"\"),\"\")","v":""},1.18,{"$f":"IF(B14>=(Керны!$H$31/Керны!$G$31),IF((Керны!$H$31/Керны!$G$31)>=A14, (Керны!$H$31/Керны!$G$31), \"\"),\"\")","v":""},1.18,{"$f":"IF(B14>=(Керны!$H$32/Керны!$G$32),IF((Керны!$H$32/Керны!$G$32)>=A14, (Керны!$H$32/Керны!$G$32), \"\"),\"\")","v":""},1.18]
[1.85,1.94,{"$f":"IF(B15>=(Керны!$H$29/Керны!$G$29),IF((Керны!$H$29/Керны!$G$29)>=A15, (Керны!$H$29/Керны!$G$29), \"\"),\"\")","v":""},1.19,{"$f":"IF(B15>=(Керны!$H$30/Керны!$G$30),IF((Керны!$H$30/Керны!$G$30)>=A15, (Керны!$H$30/Керны!$G$30), \"\"),\"\")","v":""},1.19,{"$f":"IF(B15>=(Керны!$H$31/Керны!$G$31),IF((Керны!$H$31/Керны!$G$31)>=A15, (Керны!$H$31/Керны!$G$31), \"\"),\"\")","v":""},1.19,{"$f":"IF(B15>=(Керны!$H$32/Керны!$G$32),IF((Керны!$H$32/Керны!$G$32)>=A15, (Керны!$H$32/Керны!$G$32), \"\"),\"\")","v":""},1.19]
[1.95,2.0499999999999998,{"$f":"IF(B16>=(Керны!$H$29/Керны!$G$29),IF((Керны!$H$29/Керны!$G$29)>=A16, (Керны!$H$29/Керны!$G$29), \"\"),\"\")","v":""},1.2,{"$f":"IF(B16>=(Керны!$H$30/Керны!$G$30),IF((Керны!$H$30/Керны!$G$30)>=A16, (Керны!$H$30/Керны!$G$30), \"\"),\"\")","v":""},1.2,{"$f":"IF(B16>=(Керны!$H$31/Керны!$G$31),IF((Керны!$H$31/Керны!$G$31)>=A16, (Керны!$H$31/Керны!$G$31), \"\"),\"\")","v":""},1.2,{"$f":"IF(B16>=(Керны!$H$32/Керны!$G$32),IF((Керны!$H$32/Керны!$G$32)>=A16, (Керны!$H$32/Керны!$G$32), \"\"),\"\")","v":""},1.2]

{"sheet":"Данные для протокола","index":2,"n_rows":11,"n_cols":20,"rows_kept":11,"cut":false,"hidden":false,"merged":[[2,6,5,6],[2,7,5,7],[2,9,5,9],[7,6,10,6],[7,7,10,7],[7,9,10,9]]}
["номер акта","акт отбора","дата бет","дата отбора","дата исп","маркировка","наим.бет.констр","место отбора","марка бетона","назв объекта","оборудование","температура","влажность","масса","диаметр","высота","кН","Прочность проект","Должность","ФИО"]
[]
[1,1,"2020-03-06","2020-04-23","2020-04-30","1.15","БНС","Участок","В25 F200(I) W6","участок","Испытательная машина  CYBERTRONIC C055 зав.№C055P149/ZL/0005 свидетельство о поверке № 1/14324  действительно до 28 октября 2020 г.",21,58,1708,9.4,10,273.8,32.1,"Инженер строительной лаборатории","Иванов"]
[null,null,null,null,null,"1.16",null,null,null,null,"Штангенциркуль ШЦ 1-150-0.05 зав.№8103469  свидетельство  о поверке № 1/15294 до 18 ноября 2020 г.",null,null,1684,9.4,10,238.9]
[null,null,null,null,null,"1.17",null,null,null,null,"Весы ПВм-3/32-ЖКИ-П зав.№215539 свидетельство о поверке №1/9333 до 10 июля 2020 г.",null,null,1716,9.4,10,294.2,"Аттестат","Аттестат аккредитации испытательной лаборатории ","RU"]
[null,null,null,null,null,"1.18",null,null,null,null,null,null,null,1696,9.4,10,237.3]
[]
[2,2,"2020-03-06","2020-04-25","2020-04-30","2.21(1)","БНС","Участок","В25 F200(I) W6","участок","Испытательная машина  CYBERTRONIC C055 зав.№C055P149/ZL/0005 свидетельство о поверке № 1/14324  действительно до 28 октября 2020 г.",21,58,1686,9.4,10,315.5,32.1,"Инженер строительной лаборатории","Петров"]
[null,null,null,null,null,"2.21(2)",null,null,null,null,"Штангенциркуль ШЦ 1-150-0.05 зав.№8103469  свидетельство  о поверке № 1/15294 до 18 ноября 2020 г.",null,null,1678,9.4,10,287.3]
[null,null,null,null,null,"2.22(1)",null,null,null,null,"Весы ПВм-3/32-ЖКИ-П зав.№215539 свидетельство о поверке №1/9333 до 10 июля 2020 г.",null,null,1688,9.4,10,289.10000000000002,"Аттестат","Аттестат аккредитации испытательной лаборатории ","RU"]
[null,null,null,null,null,"2.22(2)",null,null,null,null,null,null,null,1668,9.4,10,301]